BEGIN:VCALENDAR
VERSION:2.0
PRODID:-//AudioTheme 2.3.5
BEGIN:VEVENT
UID:urn:uuid:a2563965-e04e-4f9e-a24a-9e785140fc44
URL:https://argiegudo.com/gigs/rise-up-tv-featuring-the-kerri-tales/
DTSTART;TZID=GMT:20211126T000000
SUMMARY:Rise Up TV Featuring The Kerri Tales
LOCATION:Rainbow Room\, 3752 4th Avenue\, Port Alberni\, BC\, Canada\, V9Y 4H8
END:VEVENT
END:VCALENDAR
