BEGIN:VCALENDAR
VERSION:2.0
PRODID:-//AudioTheme 2.3.5
BEGIN:VEVENT
UID:urn:uuid:6ea315e1-6592-4726-8f1e-6c38dd74ed78
URL:https://argiegudo.com/gigs/riseup-tv-with-sarah-smith-windsor-on/
DTSTART;TZID=GMT:20211201T000000
SUMMARY:RISEUP TV with Sarah Smith - Windsor, ON
LOCATION:Rockstar Music Hall & Platinum Room Banquet Hall Events Center\, 2418 Central Avenue\, Windsor\, ON\, Canada\, N8W 4J3
END:VEVENT
END:VCALENDAR
